BEGIN:VCALENDAR
VERSION:2.0
PRODID:spatie/icalendar-generator
DESCRIPTION:船橋合気道道友会｜船橋市合気道道場のイベン
 ト
X-WR-CALDESC:船橋合気道道友会｜船橋市合気道道場のイベ
 ント
REFRESH-INTERVAL;VALUE=DURATION:PT1440M
X-PUBLISHED-TTL:PT1440M
BEGIN:VTIMEZONE
TZID:Etc/GMT-9
BEGIN:STANDARD
DTSTART:20240124T090000Z
TZOFFSETFROM:+0900
TZOFFSETTO:+0900
END:STANDARD
END:VTIMEZONE
BEGIN:VTIMEZONE
TZID:UTC
BEGIN:STANDARD
DTSTART:20250725T093851Z
TZOFFSETFROM:+0000
TZOFFSETTO:+0000
END:STANDARD
END:VTIMEZONE
BEGIN:VEVENT
UID:1168-83
DTSTAMP:20260421T093851Z
SUMMARY:初心者体験会
LOCATION:船橋市武道センター
ORGANIZER;CN=kanji:MAILTO:kanji@aiki-do.jp
DTSTART;TZID=Etc/GMT-9:20241020T090000
DTEND;TZID=Etc/GMT-9:20241020T103000
X-ALT-DESC;FMTTYPE=TEXT/HTML:8時45分までに武道センターの2階へ
 お越しください。 持ち物：運動しやすい服、飲み物 参
 加費：500円（スポー&amp;hellip\;
CATEGORIES:稽古
URL;VALUE=URI:https://aiki-do.jp/%e7%a8%bd%e5%8f%a4%e4%ba%88%e5%ae%9a/?mc_i
 d=1168&#038;vcal=1168
METHOD:PUBLISH
END:VEVENT
END:VCALENDAR